BEGIN:VCALENDAR
VERSION:2.0
CALSCALE:GREGORIAN
PRODID:-//MyApp//Calendar 1.0//EN
BEGIN:VEVENT
METHOD:PUBLISH
UID:57631@regionalniportaly.cz
DTSTAMP:20260424T114506Z
DTSTART;VALUE=DATE:20251001
DTEND;VALUE=DATE:20251002
SUMMARY:RESTART: Nenásilný růst a hranice v práci i podnikání
DESCRIPTION:V Černošicích běží vzdělávací program Cesta k podnikavosti\, který realizuje Impact Hub Česká republika ve spolupráci s městem Černošice a Středočeským inovačním centrem.\n \nRESTART: Nenásilný růst a hranice v práci i podnikání \nLektorka: Tereza Korecká\nJak růst a podnikat bez vyhoření\, v souladu se svými zdroji\, emocemi a potřebami. Udrž si energii a balanc mezi prací a životem. Praktická cvičení na mindfulness\, nastavení hranic a udržitelný rytmus práce i života.\n \nCílem programu je podpořit podnikavost\, rozvoj inovací a aktivizovat místní komunitu. Účastníky čeká série praktických workshopů\, které je možné absolvovat jako ucelený program nebo se přihlásit jen na vybrané části.\n \n📍 Workshopy se konají v coworkingových prostorech PŮDA\, Karlštejnská 259\, Černošice.\nℹ️ Více informací o programu a registraci najdete na webu.
LOCATION:Černošice
END:VEVENT
END:VCALENDAR