BEGIN:VCALENDAR
VERSION:2.0
CALSCALE:GREGORIAN
PRODID:-//MyApp//Calendar 1.0//EN
BEGIN:VEVENT
METHOD:PUBLISH
UID:57632@regionalniportaly.cz
DTSTAMP:20260424T100700Z
DTSTART;VALUE=DATE:20251015
DTEND;VALUE=DATE:20251016
SUMMARY:RESTART: Jak si zdravě organizovat práci a najít klid
DESCRIPTION:V Černošicích běží vzdělávací program Cesta k podnikavosti\, který realizuje Impact Hub Česká republika ve spolupráci s městem Černošice a Středočeským inovačním centrem.\n \nRESTART: Jak si zdravě organizovat práci a najít klid\nLektorka: Aneta Martinek\nPlánování podle energie\, priority\, nástroje a aplikace pro lepší produktivitu. Tipy\, jak si zorganizovat čas podle energie\, zvládat priority a najít prostor i na to\, co tě baví.\n \nCílem programu je podpořit podnikavost\, rozvoj inovací a aktivizovat místní komunitu. Účastníky čeká série praktických workshopů\, které je možné absolvovat jako ucelený program nebo se přihlásit jen na vybrané části.\n \n📍 Workshopy se konají v coworkingových prostorech PŮDA\, Karlštejnská 259\, Černošice.\nℹ️ Více informací o programu a registraci najdete na webu.
LOCATION:Černošice
END:VEVENT
END:VCALENDAR