BEGIN:VCALENDAR
VERSION:2.0
CALSCALE:GREGORIAN
PRODID:-//MyApp//Calendar 1.0//EN
BEGIN:VEVENT
METHOD:PUBLISH
UID:57633@regionalniportaly.cz
DTSTAMP:20260424T100710Z
DTSTART;VALUE=DATE:20251029
DTEND;VALUE=DATE:20251030
SUMMARY:RESTART: Podnikání s přesahem: Značka\, která dává smysl
DESCRIPTION:V Černošicích běží vzdělávací program Cesta k podnikavosti\, který realizuje Impact Hub Česká republika ve spolupráci s městem Černošice a Středočeským inovačním centrem.\n \nRESTART: Podnikání s přesahem: Značka\, která dává smysl\nLektor: Josef Havelka\nJak vytvořit autentickou značku a komunikační strategii\, která má dopad a vydrží.\n \nCílem programu je podpořit podnikavost\, rozvoj inovací a aktivizovat místní komunitu. Účastníky čeká série praktických workshopů\, které je možné absolvovat jako ucelený program nebo se přihlásit jen na vybrané části.\n \n📍 Workshopy se konají v coworkingových prostorech PŮDA\, Karlštejnská 259\, Černošice.\nℹ️ Více informací o programu a registraci najdete na webu.
LOCATION:Černošice
END:VEVENT
END:VCALENDAR