BEGIN:VCALENDAR
VERSION:2.0
CALSCALE:GREGORIAN
PRODID:-//MyApp//Calendar 1.0//EN
BEGIN:VEVENT
METHOD:PUBLISH
UID:57634@regionalniportaly.cz
DTSTAMP:20260422T090842Z
DTSTART;VALUE=DATE:20251112
DTEND;VALUE=DATE:20251113
SUMMARY:RESTART: Já a moje komunita: Dopad\, který začíná doma
DESCRIPTION:V Černošicích běží vzdělávací program Cesta k podnikavosti\, který realizuje Impact Hub Česká republika ve spolupráci s městem Černošice a Středočeským inovačním centrem.\n \nRESTART: Já a moje komunita: Dopad\, který začíná doma\nLektorka: Jarka Kořená\nPodnikání jako službu komunitě. Naučíš se zjistit potřeby okolí\, použít Teorii změny a vytvořit projekt s dopadem.\n \nCílem programu je podpořit podnikavost\, rozvoj inovací a aktivizovat místní komunitu. Účastníky čeká série praktických workshopů\, které je možné absolvovat jako ucelený program nebo se přihlásit jen na vybrané části.\n \n📍 Workshopy se konají v coworkingových prostorech PŮDA\, Karlštejnská 259\, Černošice.\nℹ️ Více informací o programu a registraci najdete na webu.
LOCATION:Černošice
END:VEVENT
END:VCALENDAR