BEGIN:VCALENDAR
VERSION:2.0
CALSCALE:GREGORIAN
PRODID:-//MyApp//Calendar 1.0//EN
BEGIN:VEVENT
METHOD:PUBLISH
UID:57635@regionalniportaly.cz
DTSTAMP:20260422T073736Z
DTSTART;VALUE=DATE:20251126
DTEND;VALUE=DATE:20251127
SUMMARY:RESTART: Zpátky ve hře: Návrat do práce nebo podnikání
DESCRIPTION:V Černošicích běží vzdělávací program Cesta k podnikavosti\, který realizuje Impact Hub Česká republika ve spolupráci s městem Černošice a Středočeským inovačním centrem.\n \nRESTART: Zpátky ve hře: Návrat do práce nebo podnikání \nLektorka: Jana Jandová\nZískej motivaci\, odvahu a plán pro návrat do práce nebo podnikání.\n \nCílem programu je podpořit podnikavost\, rozvoj inovací a aktivizovat místní komunitu. Účastníky čeká série praktických workshopů\, které je možné absolvovat jako ucelený program nebo se přihlásit jen na vybrané části.\n 📍 Workshopy se konají v coworkingových prostorech PŮDA\, Karlštejnská 259\, Černošice.\nℹ️ Více informací o programu a registraci najdete na webu.
LOCATION:Černošice
END:VEVENT
END:VCALENDAR