BEGIN:VCALENDAR
VERSION:2.0
CALSCALE:GREGORIAN
PRODID:-//MyApp//Calendar 1.0//EN
BEGIN:VEVENT
METHOD:PUBLISH
UID:57721@regionalniportaly.cz
DTSTAMP:20260422T103831Z
DTSTART;VALUE=DATE:20251010
DTEND;VALUE=DATE:20251011
SUMMARY:Czech Blues Challenge
DESCRIPTION:Srdečně Vás zveme na finálový večer Czech Blues Challenge 2025\, \,kde vystoupí tyto kapely. &nbsp\;Pavel Jartym &amp\; The Mystery Fireflies\, Band of Heysek\, Marc Slight &amp\; One "O" Eight\, Ptaszek&amp\; Bužma - Blues And Gospel. Speciálním hostem bude australský kytarista Gwyn Ashton se svojí italskou kapelou. Vítěz Czech Blues Challenge 2025 bude reprezentovat Českou republiku v roce 2026 na European Blues Challenge.
LOCATION:Černošice
END:VEVENT
END:VCALENDAR