BEGIN:VCALENDAR
VERSION:2.0
CALSCALE:GREGORIAN
PRODID:-//MyApp//Calendar 1.0//EN
BEGIN:VEVENT
METHOD:PUBLISH
UID:57727@regionalniportaly.cz
DTSTAMP:20260424T095239Z
DTSTART;VALUE=DATE:20251031
DTEND;VALUE=DATE:20251101
SUMMARY:O.J. Žlábek Band
DESCRIPTION:O.J. Žlábek Band - uskupení mladých muzikantů hrající Chicago a Westcoast Blues s prvky New Orliens Blues\, Funku a Soulu\, působící převážne na Pražské Bluesové scéně od roku 2018.V roce 2023 zvítězili na soutěži Czech Blues Challenge\, čímž se kvalifikovali na European Blues Challenge 2024\, kde reprezentovali Českou republiku a rovnat se &nbsp\;mohli s nejlepšími bluesovými kapelami &nbsp\;Evropy.V Sestavě Ondřej Žlábek (foukací harmonika)\, Jiří Maršíček (el. kytara)\, Jan Svorník (basová kytara/kontrabas) a Marcus Jurkovič (bicí) hrají od roku 2022\, společně nahrávali ve Studiu Faust Records v srpnu roku 2024 jejich debutové album.V dubnu 2025 zvítězili na soutěži Blues Aperitiv\, jež je výběrovým kolem pro největší bluesový festival Blues Alive\, na kterým 16.11.2025 budou mít tu čest zahrát.
LOCATION:Černošice
END:VEVENT
END:VCALENDAR