BEGIN:VCALENDAR
VERSION:2.0
CALSCALE:GREGORIAN
PRODID:-//MyApp//Calendar 1.0//EN
BEGIN:VEVENT
METHOD:PUBLISH
UID:57729@regionalniportaly.cz
DTSTAMP:20260424T112156Z
DTSTART;VALUE=DATE:20250923
DTEND;VALUE=DATE:20250924
SUMMARY:The Suitcase Brothers  (ESP)
DESCRIPTION:The Suitcase Brothers - akustické folk-bluesové duo\, jedno z nejlepších v Evropě.Tvorba The Suitcase Brothers je ovlivněna legendární dvojicí Sonny Terry a Brownie McGhee. Barcelonští bratři spolu hrají již více než 20 let. Provedou diváky svou hudbou na cestě ke kořenům žánru i dál.Zdá se\, že jejich cesty byly vyznačeny ode dne\, kdy se narodili. Santos se narodil v den narozenin Brownieho McGhee\, zatímco Victor se narodil v den narozenin Sonnyho Terryho.
LOCATION:Černošice
END:VEVENT
END:VCALENDAR