BEGIN:VCALENDAR
VERSION:2.0
CALSCALE:GREGORIAN
PRODID:-//MyApp//Calendar 1.0//EN
BEGIN:VEVENT
METHOD:PUBLISH
UID:58066@regionalniportaly.cz
DTSTAMP:20260422T040252Z
DTSTART;VALUE=DATE:20260123
DTEND;VALUE=DATE:20260124
SUMMARY:Pocta Zuzaně Navarové
DESCRIPTION:Kapela Pocta Zuzaně Navarové je jednou z nejautentičtějších revival kapel této hudby. Osobitost členů kapely jen podtrhává jedinečný zážitek\, který si odnesete z každého koncertu.&nbsp\;Nádherné písničky kapel Nerez a Koa\, emoce\, živost\, tanec\, slzy\, smích a radost\, to všechno je kapela Pocta Zuzaně Navarové. Hrají s velkou energií a vášní a jejich koncerty jsou vzpomínkové\, ale i taneční a radostné.&nbsp\;S pokorou vzpomínají na Zuzanu Navarovou a jejím písním dávají druhý dech. Skupina o projektu říká:&nbsp\;„Zuzky tvorba je nesmrtelná a pro nás i publikum jsou to vždy velmi emotivní koncerty. Každý koncert hrajeme s velkou pokorou. Kapela působí na scéně již skoro deset let\, a má za sebou malé ale i velké koncerty\, festivaly a plno krásných spoluprací\, například společný koncert s Máriem Bihárim v roce 2024.Kapelu tvoří Barbora Červinková - zpěv\, perkuse\, Tomáš Pecka - zpěv\, kytara\, cello\, mandolína\, piano\, Antonín Jína - zpěv\, bicí\, perkuse\, Stanislav Šedivý - kytara\, perkuse\,Jan Neruda - baskytara\, zpěv\, Nicholas Roy Arthofer - trubka\, zpěv\, perkuse.&nbsp\;
LOCATION:Černošice
END:VEVENT
END:VCALENDAR