BEGIN:VCALENDAR
VERSION:2.0
CALSCALE:GREGORIAN
PRODID:-//MyApp//Calendar 1.0//EN
BEGIN:VEVENT
METHOD:PUBLISH
UID:58323@regionalniportaly.cz
DTSTAMP:20260424T083139Z
DTSTART;VALUE=DATE:20251106
DTEND;VALUE=DATE:20251107
SUMMARY:Dámská vokální skupina Cabinet
DESCRIPTION:Na večer v rytmu swingu\, písní divadla Semafor i legendárního Jaroslava Ježka se můžete těšit ve čtvrtek 6. listopadu. V černošickém Club Kině se s nimi od 20 hodin představí dámská vokální skupina Cabinet. Zatímco před rokem se představila na slavnostním večeru na počest senátorky Františky Plamínkové\, tentokrát přijede se svým koncertem nazvaným Red Hot Mamas. Dámy si přizvaly i své muzikantské kamarády – pianistu Luďka Havla\, flétnistu Dušana Navaříka\, trumpetistu Sašu Skutila\, basistu Václava Kašpara a saxofonistu Vítka Němečka. Takže se máte na co těšit.
LOCATION:Černošice
END:VEVENT
END:VCALENDAR