BEGIN:VCALENDAR
VERSION:2.0
CALSCALE:GREGORIAN
PRODID:-//MyApp//Calendar 1.0//EN
BEGIN:VEVENT
METHOD:PUBLISH
UID:58324@regionalniportaly.cz
DTSTAMP:20260422T135110Z
DTSTART;VALUE=DATE:20251018
DTEND;VALUE=DATE:20251019
SUMMARY:Bohemian Pink Floyd
DESCRIPTION:Poslechnout si slavné hity legendární britské kapely Pink Floyd můžete v Club Kině v sobotu 18. října od 20.00. Kapela Bohemian Pink Floyd tributevznikla\, jako spojení dvou revivalových bandů: Echoesof Pink Floyd a Czech Floyd\, které v tu dobu působily každý samostatně již téměř jedno desetiletí. Snaha skupiny je prezentovat hudbu Pink Floyd v podobě\, jak byla produkována na velkých koncertech Rogera Waterse\, tak Davida Gilmoura. Tedy včetně vokalistek\, autentického soundu\, či scénické projekce. V repertoáru se objevují všechny zásadní skladby\, které celosvětově ovlivnily vývoj hudby a způsob jejího pódiového zpracování. Více informací najdete na www.bohemianfloyd.cz.
LOCATION:Černošice
END:VEVENT
END:VCALENDAR