BEGIN:VCALENDAR
VERSION:2.0
CALSCALE:GREGORIAN
PRODID:-//MyApp//Calendar 1.0//EN
BEGIN:VEVENT
METHOD:PUBLISH
UID:58325@regionalniportaly.cz
DTSTAMP:20260424T095259Z
DTSTART;VALUE=DATE:20251009
DTEND;VALUE=DATE:20251010
SUMMARY:Bo Rasco & The Desperados
DESCRIPTION:Hráč na foukací harmoniku a zpěvák Andrea Boris Borascoz jam sessions turínského undergroundu nejdříve vykřesal jiskřivě úspěšnou kapelu BoogieBombers\, aby mohl později vyšlehnout power bluesový plamen s názvem BoRasco&amp\;TheDesperados. Tato skvělá kapelasídlící v Turíněje výbušným spojením čtyř úžasných hudebních talentů. BoRasco\, zpěvák\, skladatel a hráč na harmoniku\, se spojil s kytarovým mistrem MartingemCraigem a podnikli spolu turné po USA. Doma tuto skupinu založili s dalšími desperáty: Juanem Carlosem Calderinem „Calderem“\, legendárním bubeníkem z Kuby\, a basovým virtuosem ToninemChiodem z jižní Itálie. Atmosféra jejich elektrizujících koncertů bere publikum na cestu do srdce soulové\, funkové a bluesové hudby s bohatým repertoárem klasických i originálních písní.
LOCATION:Černošice
END:VEVENT
END:VCALENDAR