BEGIN:VCALENDAR
VERSION:2.0
CALSCALE:GREGORIAN
PRODID:-//MyApp//Calendar 1.0//EN
BEGIN:VEVENT
METHOD:PUBLISH
UID:58464@regionalniportaly.cz
DTSTAMP:20260422T072410Z
DTSTART;VALUE=DATE:20260130
DTEND;VALUE=DATE:20260131
SUMMARY:Hudba Praha
DESCRIPTION:Charakteristický souzvuk kytar bratří Zatloukalů\, zakládajících členů skupin Jasná Páka a Hudba Praha\, doplněný dunivou basovou kytarou Jirky Jelínka je zárukou původního soundu kapely Hudba Praha. K sestavě dále patří frontman Zdeněk Hnyk\, jehož hlas můžete znát i z vysílání pražského Radia 1\, bubeník Tomáš Stloukal\, saxofonista Jakub Douda a alternující zpěvačky Eva Lazáriková\, Karolína Matochová\, Kateřina Žahourová nebo Michaela Dvořáková. Hudba Praha hraje svoje největší hity od doby Jasné páky po současnost: Zákon o zachování energie\, Špinavý záda\, Pal vocuď\, Cizej chlap\, Marihuana\, Máma táta\, Můry\, Lunapark a další známé pecky doplňují nové písničky z desky Barevný sny\, která vznikla ještě pod názvem Hudba Praha band v roce 2021. Po smrti Michala Ambrože se kapela z pochopitelných důvodů vrací k původnímu názvu Hudba Praha.
LOCATION:Černošice
END:VEVENT
END:VCALENDAR