BEGIN:VCALENDAR
VERSION:2.0
CALSCALE:GREGORIAN
PRODID:-//MyApp//Calendar 1.0//EN
BEGIN:VEVENT
METHOD:PUBLISH
UID:59222@regionalniportaly.cz
DTSTAMP:20260422T122127Z
DTSTART;VALUE=DATE:20251116
DTEND;VALUE=DATE:20251117
SUMMARY:Ingrid Arthur & Small Kingdom
DESCRIPTION:Ingrid Arthur je americká soulová\, R&amp\;B a gospelová zpěvačka s neskutečným hlasovým fondem a drivem. Je původem z Georgie (USA)\, nyní žije v Berlíně. Během své kariéry Ingrid spolupracovala s desítkami mezinárodních hvězd\, např. zpívala doprovodných vokály pro Cissy Houston (matku Whitney Houston) a Bette Midlerovou. Vystupovala na mnoha různých pódiích v New Yorku\, Paříži\, Londýně a Berlíně atd. Její hudební a stylová vyzrálost spolu s autentickým projevem dává tušit strhující hudební zážitek pro všechny zúčastněné. Ve spojení s triem bubeníka Andyho Wintera přinese její koncert velkou stylovou pestrost spolu s elektrizující a autentickou interpretací.&nbsp\;
LOCATION:Černošice
END:VEVENT
END:VCALENDAR