BEGIN:VCALENDAR
VERSION:2.0
CALSCALE:GREGORIAN
PRODID:-//MyApp//Calendar 1.0//EN
BEGIN:VEVENT
METHOD:PUBLISH
UID:59224@regionalniportaly.cz
DTSTAMP:20260422T091022Z
DTSTART;VALUE=DATE:20251120
DTEND;VALUE=DATE:20251121
SUMMARY:The Swamp Trio ( IT\,UK\,DE )
DESCRIPTION:Vezměte jedinečné vokální a kytarové schopnosti bluesového mistra italského původu Stefana Rosena\, přidejte jednoho z předních zpěváků a hráčů na foukací harmoniku na evropské bluesové scéně\, Brita Rogera C. Wadea\, a vše podpořte Michou Maasem. čtyřnásobným vítězem „German Blues Award“ za bicími. Unikátní spojení tří výrazných osobností současné evropské bluesové scény slibuje mimořádný hudební zážitek.&nbsp\;Výsledkem jejich spolupráce je elektrizující blues\, které dokáže nadchnout publikum po celé Evropě. Dva rovnocenní sóloví zpěváci a instrumentální mistři vytvářejí energické\, autentické a přitom osobité pojetí žánru\, v němž se snoubí tradice i moderní přístup. Společně s Rogerem C. Wadem a Michou Maasem tvoří magické trio\, které přináší blues v té nejživější podobě – hudbu s emocí\, energií a silným odkazem na tradici\, která však stále hledí vpřed.
LOCATION:Černošice
END:VEVENT
END:VCALENDAR