BEGIN:VCALENDAR
VERSION:2.0
CALSCALE:GREGORIAN
PRODID:-//MyApp//Calendar 1.0//EN
BEGIN:VEVENT
METHOD:PUBLISH
UID:59230@regionalniportaly.cz
DTSTAMP:20260424T100745Z
DTSTART;VALUE=DATE:20251206
DTEND;VALUE=DATE:20251207
SUMMARY:PPU (Janíček\, Brabec\, Schilla\, Dědek\, Bierhanzl)
DESCRIPTION:V roce 2024 to bylo 50 let\, co se na hradě Houska nahrála legendární deska skupiny The Plastic People Of The Universe „Egon Bondy´s Happy Hearts Club Banned“.K tomuto výročí vzniklo hudební uskupení PPU EGON BODY TOUR 2024\, složené z hudebníků\, kteří hráli ve skupině Plastic People ještě před rokem 1989\, tedy v době\, kdy být členem tohoto souboru znamenalo stát se takřka zločincem. Soubor ve složení: Josef Janíček (klávesy\, zpěv a letitý kapelník souboru)\, Jan Brabec (bicí\, zpěv)\, Vladimír Dědek (trombon)\, Tomáš Schilla (violoncello\, zpěv) a Ivan Bierhanzl (basová kytara) nacvičili řadu skladeb nejen z výše zmíněného alba\, ale vlastně průřez celou historií Plastic People\, které v letech 1974 – 1988 zkomponovala pět programů (mimo Bondyho vyšlo na LP ještě Pašijové hry velikonoční\, Jak bude po smrti\, Co znamená vésti koně\, Hovězí porážka a Půlnoční myš)\, že všech uslyšíte ukázku. Navíc se kapela touto sestavou vrací ke svým kořenům\, protože na jejích zásadních albech kytara vždy chyběla. V roce 2024 proběhlo na jaře a na podzim turné po českých městech\, celkem na 30 koncertů\, které navštívilo přes 10 000 lidí\, v naprosté většině nadšených hudbou\, kterou slyšeli\; obzvláště v tomto obsazení vyniká výjimečnost hudebního talentu Mejly Hlavsy\, který je výhradním autorem hudby. Kapela se\, mj. vzhledem k věkovému průměru členů\, rozhodla nadále nepokračovat ve standardním klubovém hraní\, ale jen občas zahrát\, když je k tomu nějaký důvod či přidaná hodnota. Koncert v Černošicích je toho příkladem: je to takový koncert na domácí půdě\; pánové Janíček a Brabec bydlí nedaleko. Navíc se zdá\, že tento koncert bude na dlouhou dobu posledním\, kdy kapela živě vystoupí.
LOCATION:Černošice
END:VEVENT
END:VCALENDAR