BEGIN:VCALENDAR
VERSION:2.0
CALSCALE:GREGORIAN
PRODID:-//MyApp//Calendar 1.0//EN
BEGIN:VEVENT
METHOD:PUBLISH
UID:59401@regionalniportaly.cz
DTSTAMP:20260422T103015Z
DTSTART;VALUE=DATE:20251129
DTEND;VALUE=DATE:20251130
SUMMARY:Circus ponorka - vánoční koncert
DESCRIPTION:Strhující one-man-show kytaristy a skladatele filmové hudby Honzy Ponocného. Za pomoci kytary\, mikrofonů a looperů představí své písně ze známých filmů Revival\, Perfect days\, Buko či seriálu Dabing Street. Publikum na jeho koncertech obvykle v první minutě zatají dech a pořádně se nadechne až po posledním přídavku. Circus Ponorka je návyková záležitost a kdo se s ním jednou setkal\, je lapen navždy.Josef Vlček\, z recenze na Headliner.cz: \,\, Honza Ponocný celé roky předvádí na klubových pódiích\, že je technicky a technologicky nejerudovanějším one-man-band kytaristou své generace! Beze vší nadsázky se mu podařilo natočit album\, které by se dokázalo s podporou kvalitního marketingu uchytit i na zahraničních trzích…”Smart link: https://tranzistor.lnk.to/CircusPonorkaLostAngelsAR
LOCATION:Černošice
END:VEVENT
END:VCALENDAR