BEGIN:VCALENDAR
VERSION:2.0
CALSCALE:GREGORIAN
PRODID:-//MyApp//Calendar 1.0//EN
BEGIN:VEVENT
METHOD:PUBLISH
UID:60517@regionalniportaly.cz
DTSTAMP:20260422T103223Z
DTSTART;VALUE=DATE:20251204
DTEND;VALUE=DATE:20251205
SUMMARY:RockSet - world Roxette tribute band
DESCRIPTION:RockSet - world Roxette tribute band
LOCATION:Černošice
END:VEVENT
END:VCALENDAR