BEGIN:VCALENDAR
VERSION:2.0
CALSCALE:GREGORIAN
PRODID:-//MyApp//Calendar 1.0//EN
BEGIN:VEVENT
METHOD:PUBLISH
UID:60797@regionalniportaly.cz
DTSTAMP:20260422T035433Z
DTSTART;VALUE=DATE:20260328
DTEND;VALUE=DATE:20260329
SUMMARY:Rock Metalový koncert Doktor Triceratops a Trilobit-Rock
DESCRIPTION:Rock Metalový koncert kapel Trilobit-Rock a Doktor Triceratops&nbsp\;
LOCATION:Černošice
END:VEVENT
END:VCALENDAR