BEGIN:VCALENDAR
VERSION:2.0
CALSCALE:GREGORIAN
PRODID:-//MyApp//Calendar 1.0//EN
BEGIN:VEVENT
METHOD:PUBLISH
UID:61127@regionalniportaly.cz
DTSTAMP:20260422T053129Z
DTSTART;VALUE=DATE:20260411
DTEND;VALUE=DATE:20260412
SUMMARY:PŘESUNUTO: Koncert Doktor Triceratops a Trilobit-Rock
DESCRIPTION:Rock Metalový koncert kapel Trilobit-Rock a Doktor Triceratops&nbsp\;
LOCATION:Černošice
END:VEVENT
END:VCALENDAR