BEGIN:VCALENDAR
VERSION:2.0
CALSCALE:GREGORIAN
PRODID:-//MyApp//Calendar 1.0//EN
BEGIN:VEVENT
METHOD:PUBLISH
UID:61172@regionalniportaly.cz
DTSTAMP:20260422T070450Z
DTSTART;VALUE=DATE:20260120
DTEND;VALUE=DATE:20260121
SUMMARY:Will Johns Trio
DESCRIPTION:Will Johns je synovec Erica Claptona a George Harrisona. Jeho otec Andy John byl zvukařem desek Led Zeppelin\, Rolling Stones\, Jethro Tull a dalších. Will Johns (1973) patří mezi současné nejvýraznější britské kytaristy. Will je vynikající sólový kytarista a zpěvák jeho projev se vyznačuje mistrovskou rovnováhou mezi historií blues a moderním zvukem. Will patří ve Velké Británii k&nbsp\;nejvýraznějším interpretům blues. Will je také velmi respektovaný skladatel\, byl tři roky po sobě (2012-2014) nominován za nejlepší původní píseň na British Blues Awards. Vydal již tři sólová alba a pravidelně též hostuje s novou hvězdou britské bluesové scény\, ohromující zpěvačkou Malayou Blue. V České republice se představí v sevřeném triu s vynikajícími muzikanty s Tomášem Liškou na baskytaru a Tomem Hobzkem na bicí.
LOCATION:Černošice
END:VEVENT
END:VCALENDAR