BEGIN:VCALENDAR
VERSION:2.0
CALSCALE:GREGORIAN
PRODID:-//MyApp//Calendar 1.0//EN
BEGIN:VEVENT
METHOD:PUBLISH
UID:61506@regionalniportaly.cz
DTSTAMP:20260422T091100Z
DTSTART;VALUE=DATE:20260203
DTEND;VALUE=DATE:20260204
SUMMARY:WILL WILDE (UK) a The Bladderstones
DESCRIPTION:Will Wilde&nbsp\;je vynikající britský&nbsp\;bluesrockový&nbsp\;zpěvák\, skladatel\, excelentní harmonikář a mimořádně nadaný sólový kytarista. V British Blues Award byl 5x nominován v kategorii&nbsp\;„Best harmonica player“. V roce 2015 vyhrál&nbsp\;„Blues Matters Award“&nbsp\;pro nejlepšího harmonikáře. Jeho blues je označováno jako drsné a syrové. WILL WILDE patří mezi absolutní špičku současné anglické bluesrockové scény. Skutečné bluesové eso z Velké Británie\, který se nebojí ani mocných rockových sól. Díky svému unikátnímu ladění je mistr bluesové harmoniky a zpěvák Will Wilde jedním z nejosobitějších britských umělců. Jeho styl čerpá ze hry Jimmyho Page\, Ritchieho Blackmorea či Sonnyho Boye Williamsona\, a pro fanouška klasického blues může být překvapením\, ovšem příjemným. Nepropásněte jedinečnou šanci vidět účastníka legendárního plovoucího festivalu Legendary Rhythm &amp\; Blues Cruise! Na českém turné jej doprovodí stálice české bluesové scény\, blues-power-crossoverová kapela&nbsp\;The Bladderstones.&nbsp\;
LOCATION:Černošice
END:VEVENT
END:VCALENDAR