BEGIN:VCALENDAR
VERSION:2.0
CALSCALE:GREGORIAN
PRODID:-//MyApp//Calendar 1.0//EN
BEGIN:VEVENT
METHOD:PUBLISH
UID:61507@regionalniportaly.cz
DTSTAMP:20260422T091049Z
DTSTART;VALUE=DATE:20260117
DTEND;VALUE=DATE:20260118
SUMMARY:Aaron Brooks & and The Bone Cirkus
DESCRIPTION:Aaron Brooks\, zpěvák a skladatel z Akronu v Ohiu v USA a bývalý frontman americké psychedelické rockové kapely Simeon Soul Charger. Brooksův hudební styl kombinuje zvuky psychedelického rocku\, folku\, vaudeville a orchestrální hudby 60. a 70. let Spolu s multikulturní směsicí hudebníků vytváří tento výjimečný hudebník a bavič se svým charismatickým hlasem všestranné\, filmově-divadelní zvukové krajiny v poli napětí mezi pouťovou a komorní hudbou\, zpěváckými/skladatelskými výpůjčkami a samozřejmě rockem. Brooksova kapela se skládá z Christiana Draghiho na sólovou kytaru/mandolínku\, Mäxe Hubera na bicí\, Benedikta Wiedemanna na klavír/varhany a Martina Franka na baskytaru. Vice informací a ukázky najdete na&nbsp\;www.aaronbrooks.net.
LOCATION:Černošice
END:VEVENT
END:VCALENDAR