BEGIN:VCALENDAR
VERSION:2.0
CALSCALE:GREGORIAN
PRODID:-//MyApp//Calendar 1.0//EN
BEGIN:VEVENT
METHOD:PUBLISH
UID:61890@regionalniportaly.cz
DTSTAMP:20260422T021527Z
DTSTART;VALUE=DATE:20260218
DTEND;VALUE=DATE:20260219
SUMMARY:Gilad Atzmon Quartet (GB)
DESCRIPTION:Gilad Atzmon je špičkový\, charismatický jazzový saxofonista\, suverénní hudební osobnost s ohromující improvizační schopností\, nejtvrdší hráč v britském jazzu. Svým nezaměnitelným tónem\, ovlivněný mj. Charlie Parkerem a Johnem Coltranem svým bouřlivým stylem válcuje jazzové publikum. Po různých životních eskapádách nakonec zakotvil v dobrovolném "exilu" v Londýně\, kde jako hráč na saxofon patří k velmi vyhledávaným jazzovým hudebníkům. Nyní žije v Aténách. Hrál a nahrával mimo jiné s: Pink Floyd\, Paulem McCartneyem\, Robbiem Williamsem\, Sinead O'Connor\, Robertem Wyattem a The Water Boys! Celý Quartet je doplněn špičkovými jazzovými hráči\, podtrženo\, sečteno – skvělý večer v&nbsp\;Club Kině pro všechny milovníky mimořádně kvalitního jazzu. Srdečně Vás zveme ve středu 18.2 od&nbsp\;20.00 do&nbsp\;černošického Club Kina.
LOCATION:Černošice
END:VEVENT
END:VCALENDAR