BEGIN:VCALENDAR
VERSION:2.0
CALSCALE:GREGORIAN
PRODID:-//MyApp//Calendar 1.0//EN
BEGIN:VEVENT
METHOD:PUBLISH
UID:62200@regionalniportaly.cz
DTSTAMP:20260422T024054Z
DTSTART;VALUE=DATE:20260306
DTEND;VALUE=DATE:20260307
SUMMARY:Lucie Revival
DESCRIPTION:Lucie Revival je známým plzeňským revivalem skupiny Lucie\, která patřila mezi nejlepší kapely v Česku. V České republice se projekt Lucie Revival setkává s velmi příznivými ohlasy\, a to nejen díky písním skupiny Lucie\, ale také díky muzikantským výkonům a profesionálnímu přístupu členů skupiny LR – Lucie revival.Skupina Lucie Revival vznikla na jaře 2005 a byla v té době prvním a jediným revivalem nejslavnější České polistopadové kapely Lucie. Během krátké doby si skupina LUCIE REVIVAL získala renomé po celé České republice\, to jak u posluchačů a diváku na svých vlastních koncertech\, tak i u pořadatelů festivalů a slavností. Je třeba zmínit\, že kapela se soustředí na živá vystoupení a dává tak možnost návštěvníkům koncertů slyšet živé verze nejznámějších Českých hitů z dílny skupiny Lucie.Lucie Revival si rozhodně nechce hrát na originál. Není v jejím zájmu\, aby ji někdo s originálem srovnával\, jelikož to není možné ani u tohoto revivalu\, ani u jiných. Důležité je\, aby se posluchači bavili a odnesli si z koncertu dobrý pocit a příjemný zážitek.
LOCATION:Černošice
END:VEVENT
END:VCALENDAR