BEGIN:VCALENDAR
VERSION:2.0
CALSCALE:GREGORIAN
PRODID:-//MyApp//Calendar 1.0//EN
BEGIN:VEVENT
METHOD:PUBLISH
UID:62265@regionalniportaly.cz
DTSTAMP:20260422T004402Z
DTSTART;VALUE=DATE:20260228
DTEND;VALUE=DATE:20260301
SUMMARY:Silver Dogs & Chyba 404
DESCRIPTION:Pop‑punková kapela Chyba 404 pochází z Karlovarska a na scéně působí od roku 2023. Tvoří ji čtyři muzikanti\, kteří se původně potkali jako punkáč\, grunger\, metalista a „agrorocker“ – a přesto se shodli na jednom společném směru: energickém pop punku\, který chtějí vrátit na česká pódia.Kapela pravidelně vystupuje v Karlovarském a Plzeňském kraji a rychle si získává fanoušky díky chytlavým melodiím\, mladistvé energii a autentickému projevu. Za své dosavadní úspěchy považují spolupráci s firmou Henry’s Music a hraní po boku několika legend české rockové scény.Na Bandzone i YouTube najdete jejich živé i studiové nahrávky – například skladby Cestopis\, Žil věrně\, Přátelská zóna\, Sexy OOcha nebo Zamilovaná. Jejich tvorba kombinuje melodický pop punk s lehkým nadhledem a energií\, která naživo funguje ještě lépe než z nahrávek.Hard rockové trio Silver Dogs mělo premiéru v&nbsp\;Club Kino Černošice v&nbsp\;září 2024. Od nejistých začátků se po více než roce pilného cvičení a sehrávání vlastního repertoáru vypracovalo jak po zvukové\, tak po hráčské stránce a v&nbsp\;lednu 2026 vyrazilo do nahrávacího studia s&nbsp\;několika songy. Na obnovené premiéře v&nbsp\;Clubu Kino pokřtí svůj první singl Únor\, jehož atmosféru pomohly zvukově dotvořit nahrávky z&nbsp\;Černošických hospod a parta kamarádů. Neutuchající rockové energii dvou hlavních autorů hudby a textů dodává šťávu čtrnáctiletý bubeník!
LOCATION:Černošice
END:VEVENT
END:VCALENDAR