BEGIN:VCALENDAR
VERSION:2.0
CALSCALE:GREGORIAN
PRODID:-//MyApp//Calendar 1.0//EN
BEGIN:VEVENT
METHOD:PUBLISH
UID:63246@regionalniportaly.cz
DTSTAMP:20260422T004412Z
DTSTART;VALUE=DATE:20260304
DTEND;VALUE=DATE:20260305
SUMMARY:Tom Killner Band (UK)\, blues & americana z Londýna
DESCRIPTION:Přijďte ve středu 4.3. od 20.00 do černošického Club Kina a můžete se těšit na Výbušnou a velmi dobře zahranou směs rocku\, blues\, jižanského rocku\, soulu\, roots music &amp\; americany. Tom Killner\, mladý\, ale již vysoce ceněný zpěvák a kytarista\, se pohybuje na pomezí žánrů\, jako jsou: soul\, blues\, jižanský rock\, country a americana. Svou vysoce dynamickou show získává stále nové publikum jak ve Velké Británii\, tak v celé Evropě. Jeho koncerty jsou horkou kombinací svižných riffů a procítěných písní z Tomova zpěvníku. Na začátku své kariéry podepsal Tom smlouvu s vydavatelstvím Cleopatra Records se sídlem v Los Angeles a vydal dvě alba „Hard Road“ a „Live“. Jeho nezávislé nahrávky „Get Back Up“\, „Church House Sessions“ a singl „Home“ byly přijaty s velkým ohlasem u kritiky\, byly pozitivně hodnoceny v mnoha hudebních časopisech h a získaly skvělé recenze jak mezinárodním radiovém vysílání\, tak na rádiu BBC. Co na jeho tvorbu říkají tiskové ohlasy? Za všechny např. National Rock Review"Je to skvěle znějící bluesrockové album s trochou jižanského vlivu\, proložené vášnivým Tomovým hraním a nabité spoustou soulu." Kapela hraje ve složení Tom Killner – kytara\, zpěv\, Wes Brook – klávesy\, hammondy\, Callum Houghton – baskytara a &nbsp\;Rich Hunter – bicí.
LOCATION:Černošice
END:VEVENT
END:VCALENDAR