BEGIN:VCALENDAR
VERSION:2.0
CALSCALE:GREGORIAN
PRODID:-//MyApp//Calendar 1.0//EN
BEGIN:VEVENT
METHOD:PUBLISH
UID:63797@regionalniportaly.cz
DTSTAMP:20260422T004352Z
DTSTART;VALUE=DATE:20260416
DTEND;VALUE=DATE:20260417
SUMMARY:Ani za milion!
DESCRIPTION:Detektivní komedie z&nbsp\;prostředí francouzského majáku.Jacqueline\, byť provdaná za anglického velvyslance\, je Francouzka tělem\, duší i původem. Má dvě děti a kufřík s milionem eur\, který je ochotna darovat každému\, kdo si jej zaslouží. Nenávidí venkov\, samotu a obyčejnost.Lambert ženatý není\, manželka od něj utekla. Má duši námořníka a žije jen pro svůj maják\, o který se stará čtyřiadvacet hodin denně\, sedm dní v týdnu. Miluje venkov\, samotu a obyčejnost.Ptáte se\, co mají oba společného? No přece vůbec nic! Ale nedejme se mást prvními dojmy. V této brilantní detektivní komedii\, která obě postavy svede dohromady a navěky spojí tajemstvím\, je totiž všechno jinak\, než se zdá – každá lež je pravdou\, každá pravda lží a jisté je pouze to\, že pod rouškou humoru se skrývá vrah…
LOCATION:Jirny
END:VEVENT
END:VCALENDAR