BEGIN:VCALENDAR
VERSION:2.0
CALSCALE:GREGORIAN
PRODID:-//MyApp//Calendar 1.0//EN
BEGIN:VEVENT
METHOD:PUBLISH
UID:63965@regionalniportaly.cz
DTSTAMP:20260422T024134Z
DTSTART;VALUE=DATE:20260315
DTEND;VALUE=DATE:20260316
SUMMARY:Jeden svět: Otec
DESCRIPTION:OtecTereza Nvotová / Česká republika\, Polsko\, Slovensko / 2025 / 103 minOsud hrdiny příběhu změní jediný okamžik. Film o fatální chybě hledá hranice empatie a zároveň se ptá\, zda lze dále žít poté\, co jeden život skončí.Příběh milujícího otce\, jehož život se hroutí v důsledku jediného selhání. Ze dne na den přichází o rodinu\, milující vztah i pověst. Přes nesmírnou bolest i hrozbu vězení se snaží najít v tragédii\, která jeho rodinu postihla\, alespoň náznaky logického vysvětlení. S ním se v hrdinově budoucnosti neodmyslitelně pojí křehká možnost smíření i obnovení důvěry a lásky. Příběhově i formálně precizní film natočený na základě skutečné události vypráví příběh\, který by se mohl stát každému. Bez odsuzování zkoumá lidský osud zasažený neštěstím i náročnou cestu k odpuštění sobě samému.&nbsp\;Host: Mgr. Pavel Rataj - uznávaný český psycholog\, párový psychoterapeut\, manželský a rodinný poradce s dlouholetou praxí v oblasti vztahové psychologie a podpory partnerských i mezilidských vztahů.Je zakladatelem Institutu párové terapie INPAT a věnuje se jak individuální\, tak párové a rodinné terapii. Je autorem projektu Cesty partnerství a je aktivním lektorem seminářů\, workshopů a výcviků zaměřených na partnerské vztahy\, komunikaci a krizové situace ve vztazích. Momentálně se soustředí na výcvik nových kvalitních párových terapeutů.Pavel Rataj je rovněž bývalým víceprezidentem Asociace manželských a rodinných poradců ČR a působil jako externí učitel na katedře psychologie FF UK\, kde se věnoval manželskému a rodinnému poradenství.Ve své práci kombinuje různé terapeutické přístupy — od systémových a humanistických až po hlubinně dynamické a emocionálně orientované techniky — a klade silný důraz na porozumění emocím\, komunikaci a procesu zrání ve vztazích. Je častým hostem v médiích i odborných diskusích o tom\, jak pečovat o vztahy\, řešit konflikty nebo zvládat krizové situace v rodině a partnerském soužití.
LOCATION:Černošice
END:VEVENT
END:VCALENDAR