BEGIN:VCALENDAR
VERSION:2.0
CALSCALE:GREGORIAN
PRODID:-//MyApp//Calendar 1.0//EN
BEGIN:VEVENT
METHOD:PUBLISH
UID:63966@regionalniportaly.cz
DTSTAMP:20260422T053213Z
DTSTART;VALUE=DATE:20260317
DTEND;VALUE=DATE:20260318
SUMMARY:Jeden svět: Marlee Matlin: Už nejsem jediná
DESCRIPTION:Shoshannah Stern / USA / 2025 / 94 min.V jednadvaceti získala Oscara\, přesto musela jako neslyšící herečka neustále bojovat o své místo v Hollywoodu. V roce 1987 se Marlee Matlin stala historicky první neslyšící osobou s cenou Akademie. Namísto otevřených dveří však narazila na bariéry filmového průmyslu a každodenní vyjednávání identity ve slyšícím světě. Snímek neslyšící režisérky Shoshannah Stern nabízí intimní pohled na osobní i profesní cestu Marlee Matlin a klade si otázku\, jakou cenu může mít výjimečný úspěch v prostředí\, které není připraveno přijmout odlišnost. Matlin ve znakovém jazyce reflektuje své zkušenosti a postupnou proměnu v aktivistku za reprezentaci neslyšících lidí. Snímek ukazuje\, jak zásadní je komunikace pro lidskou důstojnost.&nbsp\;Hostka: Mgr. Kristýna Šimralová - psycholožka pro neslyšící žáky z MŠ\, ZŠ\, SŠ a Gymnázia pro sluchově postižené Ječná 27. Kristýna vystudovala na FF UK dva jednoobory - Psychologie a Čeština v komunikaci neslyšících. Dala o sobě vědět již jako studentka\, když během pandemie rozjela výrobu transparentních roušek tolik zásadních pro odezírání neslyšících. V současné době se věnuje také canisterapii se svou fenkou Olivkou.&nbsp\;
LOCATION:Černošice
END:VEVENT
END:VCALENDAR