BEGIN:VCALENDAR
VERSION:2.0
CALSCALE:GREGORIAN
PRODID:-//MyApp//Calendar 1.0//EN
BEGIN:VEVENT
METHOD:PUBLISH
UID:65723@regionalniportaly.cz
DTSTAMP:20260422T023714Z
DTSTART;VALUE=DATE:20260425
DTEND;VALUE=DATE:20260426
SUMMARY:Farmářské trhy na Koledníku
DESCRIPTION:
LOCATION:Tetín
END:VEVENT
END:VCALENDAR